BEGIN:VCALENDAR
VERSION:2.0
PRODID:-//Vänsterpartiet Borlänge - ECPv6.15.17.1//NONSGML v1.0//EN
CALSCALE:GREGORIAN
METHOD:PUBLISH
X-ORIGINAL-URL:https://borlange.vansterpartiet.se
X-WR-CALDESC:Händelser för Vänsterpartiet Borlänge
REFRESH-INTERVAL;VALUE=DURATION:PT1H
X-Robots-Tag:noindex
X-PUBLISHED-TTL:PT1H
BEGIN:VTIMEZONE
TZID:Europe/Stockholm
BEGIN:DAYLIGHT
TZOFFSETFROM:+0100
TZOFFSETTO:+0200
TZNAME:CEST
DTSTART:20140330T010000
END:DAYLIGHT
BEGIN:STANDARD
TZOFFSETFROM:+0200
TZOFFSETTO:+0100
TZNAME:CET
DTSTART:20141026T010000
END:STANDARD
BEGIN:DAYLIGHT
TZOFFSETFROM:+0100
TZOFFSETTO:+0200
TZNAME:CEST
DTSTART:20150329T010000
END:DAYLIGHT
BEGIN:STANDARD
TZOFFSETFROM:+0200
TZOFFSETTO:+0100
TZNAME:CET
DTSTART:20151025T010000
END:STANDARD
BEGIN:DAYLIGHT
TZOFFSETFROM:+0100
TZOFFSETTO:+0200
TZNAME:CEST
DTSTART:20160327T010000
END:DAYLIGHT
BEGIN:STANDARD
TZOFFSETFROM:+0200
TZOFFSETTO:+0100
TZNAME:CET
DTSTART:20161030T010000
END:STANDARD
BEGIN:DAYLIGHT
TZOFFSETFROM:+0100
TZOFFSETTO:+0200
TZNAME:CEST
DTSTART:20170326T010000
END:DAYLIGHT
BEGIN:STANDARD
TZOFFSETFROM:+0200
TZOFFSETTO:+0100
TZNAME:CET
DTSTART:20171029T010000
END:STANDARD
END:VTIMEZONE
BEGIN:VEVENT
DTSTART;TZID=Europe/Stockholm:20161219T180000
DTEND;TZID=Europe/Stockholm:20161219T200000
DTSTAMP:20260420T162913
CREATED:20161115T021127Z
LAST-MODIFIED:20161115T021127Z
UID:1165-1482170400-1482177600@borlange.vansterpartiet.se
SUMMARY:Julavslutning
DESCRIPTION:Välkommen på julavslutning på Vänsterhörnet. \nVi bjuder på glögg\, pepparkakor\, lussekatter och annat som hör julen till. \nTillsammans summerar vi det gångna politiska året och avnjuter några kulturprogram.\nGratis och öppet! \nVälkomna!
URL:https://borlange.vansterpartiet.se/event/julavslutning-2/
LOCATION:Vänsterhörnet\, Vattugatan 5\, Borlänge\, 78433\, Sverige
ORGANIZER;CN="V%C3%A4nsterpartiet Borl%C3%A4nge":MAILTO:borlange@vansterpartiet.se
END:VEVENT
BEGIN:VEVENT
DTSTART;TZID=Europe/Stockholm:20161128T180000
DTEND;TZID=Europe/Stockholm:20161128T200000
DTSTAMP:20260420T162913
CREATED:20161107T162701Z
LAST-MODIFIED:20161107T170943Z
UID:1150-1480356000-1480363200@borlange.vansterpartiet.se
SUMMARY:Amineh Kakabaveh – inte större än en kalasjnikov
DESCRIPTION:  \n  \n  \n  \n  \n  \n  \nI fem år var Amineh Kakabaveh en del av peshmergagerillan innan hon återigen gav sig av flyende undan dödshot.\nEfter ungefär ett år på flykt i Turkiet hon kom till Sverige som kvotflykting 1992.\nHär utbildade hon sig till socionom\, tog en master i socialt arbete och filosofi och är idag tredjenamn på Vänsterpartiets riksdagslista. \nAmineh Kakabaveh kämpar hårt för tonårsflickors rätt att slippa våld\, patriarkala strukturer och hedersförtryck\, en kamp som hon har fått utföra i opposition mot ett oförstående svenskt samhälle\, men också i opposition med ledningen i sitt eget parti. \nAmineh\, inte större än en kalasjnikov är en gripande och näst intill ofattbar historia om överlevnad\, strid och kamp\, men också om möten\, förståelse och kärlek. \nFri entré – kom i tid! \nI samarbete med ABF.
URL:https://borlange.vansterpartiet.se/event/amineh-kakabaveh-inte-storre-an-en-kalasjnikov/
LOCATION:Vänsterhörnet\, Vattugatan 5\, Borlänge\, 78433\, Sverige
ORGANIZER;CN="V%C3%A4nsterpartiet Borl%C3%A4nge":MAILTO:borlange@vansterpartiet.se
END:VEVENT
BEGIN:VEVENT
DTSTART;TZID=Europe/Stockholm:20161121T180000
DTEND;TZID=Europe/Stockholm:20161121T200000
DTSTAMP:20260420T162913
CREATED:20161115T021934Z
LAST-MODIFIED:20161115T022213Z
UID:1169-1479751200-1479758400@borlange.vansterpartiet.se
SUMMARY:Måndagsmöte 21 november
DESCRIPTION:På måndag den 21 november är det åter dags för måndagsmöte med Vänsterpartiet Borlänge.\n\n\n \n\n\nDenna måndag är det kommunpolitiska frågor på dagordningen inför Kommunfullmäktige på tisdag den 22 november.\n\n\n \n\n\nFör andra evenemang och kulturprogram\, håll utkik i vår evenemangskalender\, så du inte missar något spännande och intressant.\n\n\n \n\n\nVälkommen!
URL:https://borlange.vansterpartiet.se/event/mandagsmote-21-november/
LOCATION:Vänsterhörnet\, Vattugatan 5\, Borlänge\, 78433\, Sverige
ORGANIZER;CN="V%C3%A4nsterpartiet Borl%C3%A4nge":MAILTO:borlange@vansterpartiet.se
END:VEVENT
BEGIN:VEVENT
DTSTART;TZID=Europe/Stockholm:20161119T100000
DTEND;TZID=Europe/Stockholm:20161119T140000
DTSTAMP:20260420T162913
CREATED:20161013T222805Z
LAST-MODIFIED:20161013T222805Z
UID:1137-1479549600-1479564000@borlange.vansterpartiet.se
SUMMARY:Fixardag på Vänsterhörnet
DESCRIPTION:Styrelsen bjuder in fixardag för dig som är intresserad av att fixa Vänsterhörnet.\nTillsammans kommer vi plocka\, flytta och styla Vänsterhörnet – Borlänges politiska vardagsrum.\nStyrelsen bjuder på fika och lunch.\nVälkommen!
URL:https://borlange.vansterpartiet.se/event/fixardag-pa-vansterhornet/
LOCATION:Vänsterhörnet\, Vattugatan 5\, Borlänge\, 78433\, Sverige
ORGANIZER;CN="V%C3%A4nsterpartiet Borl%C3%A4nge":MAILTO:borlange@vansterpartiet.se
END:VEVENT
BEGIN:VEVENT
DTSTART;TZID=Europe/Stockholm:20161114T180000
DTEND;TZID=Europe/Stockholm:20161114T200000
DTSTAMP:20260420T162913
CREATED:20161027T125955Z
LAST-MODIFIED:20161027T125955Z
UID:1144-1479146400-1479153600@borlange.vansterpartiet.se
SUMMARY:Sociala företag - ett sätt att bryta utanförskap
DESCRIPTION:I Borlänge bedrivs social företag\, bland annat i Forum Kvarnsveden\, där man nyligen öppnade en Ta Tillvara Butik.\n\n\nSociala företag ger utrymme att utveckla egenmakt och meningsfull sysselsättning. \n\n\n \n\n\nTina Spers och Ola Svanström berättar om sociala företag och varför vi ska synliggöra psykisk ohälsa.\n\n\n \n\n\nI samarbete med ABF i Borlänge.
URL:https://borlange.vansterpartiet.se/event/sociala-foretag-ett-satt-att-bryta-utanforskap/
LOCATION:Vänsterhörnet\, Vattugatan 5\, Borlänge\, 78433\, Sverige
ORGANIZER;CN="V%C3%A4nsterpartiet Borl%C3%A4nge":MAILTO:borlange@vansterpartiet.se
END:VEVENT
BEGIN:VEVENT
DTSTART;TZID=Europe/Stockholm:20161112T150000
DTEND;TZID=Europe/Stockholm:20161112T170000
DTSTAMP:20260420T162913
CREATED:20161110T221351Z
LAST-MODIFIED:20161110T221643Z
UID:1159-1478962800-1478970000@borlange.vansterpartiet.se
SUMMARY:Trump vann\, varför det?
DESCRIPTION:Nu på lördag den 12 november kl.15.00 blir det paneldiskussion angående presidentvalet i USA. \nVad händer i valrörelsen i Sverige inför valet-2018 och vad kan vi förvänta oss för resultat? \nMedverkar i panelen gör Jens Runnberg (Dalarnas Tidningar)\, Linnea Risinger (Mp) och Rikard Rudolfsson (V). \nDet kommer även bjudas på glögg\, kaffe och pepparkaka. \n\nVälkomna!
URL:https://borlange.vansterpartiet.se/event/trump-vann-varfor-det/
LOCATION:Vänsterhörnet\, Vattugatan 5\, Borlänge\, 78433\, Sverige
ORGANIZER;CN="V%C3%A4nsterpartiet Borl%C3%A4nge":MAILTO:borlange@vansterpartiet.se
END:VEVENT
BEGIN:VEVENT
DTSTART;TZID=Europe/Stockholm:20161031T180000
DTEND;TZID=Europe/Stockholm:20161031T200000
DTSTAMP:20260420T162913
CREATED:20161019T123118Z
LAST-MODIFIED:20161019T123118Z
UID:1139-1477936800-1477944000@borlange.vansterpartiet.se
SUMMARY:Träffa Verdandi
DESCRIPTION:Verdandi bildades 1896 och är en del av den svenska arbetarrörelsen.\nVerdandi jobbar med socialpolitiska frågor\, social kontaktverksamhet i bostadsområden\, opinionsbildning med mera. \nKom och träffa Verdandi måndagen den 31 oktober kl.18.00 på Vänsterhörnet. \nArrangemanget sker i samarbete med ABF.
URL:https://borlange.vansterpartiet.se/event/traffa-verdandi/
LOCATION:Vänsterhörnet\, Vattugatan 5\, Borlänge\, 78433\, Sverige
END:VEVENT
BEGIN:VEVENT
DTSTART;TZID=Europe/Stockholm:20161024T180000
DTEND;TZID=Europe/Stockholm:20161024T200000
DTSTAMP:20260420T162913
CREATED:20161012T132721Z
LAST-MODIFIED:20161012T132743Z
UID:1133-1477332000-1477339200@borlange.vansterpartiet.se
SUMMARY:Kom och prata skola med oss!
DESCRIPTION:Mari Jonsson (s)\, kommunalråd och ordförande i Barn- och bildningsnämnden besöker vänsterhörnet och pratar om Framtidens skola i Borlänge kommun. \nVilka framgångsfaktorer och utmaningar finns?\nHur ser skolan verksamheter ut\, nu och i framtiden? \nMari kommer även att kommentera de tre skolrankningar som publicerats i närtid samt svara på frågor. \nMötet är öppet för alla\, kaffe och fika serveras.\nMåndag 24/10 kl 18 i Vänsterpartiets lokal på Vattugatan 5\, Borlänge. \nVälkomna! \nSker i samarbete med ABF Borlänge-Nedansiljan. \nEvenemanget på Vänsterpartiet Borlänges Facebook-sida.
URL:https://borlange.vansterpartiet.se/event/kom-och-prata-skola-med-oss/
LOCATION:Vänsterhörnet\, Vattugatan 5\, Borlänge\, 78433\, Sverige
ORGANIZER;CN="V%C3%A4nsterpartiet Borl%C3%A4nge":MAILTO:borlange@vansterpartiet.se
END:VEVENT
BEGIN:VEVENT
DTSTART;TZID=Europe/Stockholm:20160509T180000
DTEND;TZID=Europe/Stockholm:20160509T200000
DTSTAMP:20260420T162913
CREATED:20160429T101818Z
LAST-MODIFIED:20160429T101818Z
UID:1103-1462816800-1462824000@borlange.vansterpartiet.se
SUMMARY:Föreläsning med  Per-Arne Öckerman
DESCRIPTION:Föreläsning med Per-Arne Öckerman –\nprofessor emeritus och känd forskare i komplementärmedicin och elöverkänslighet. \nMåndagen den 9 maj kl.18.00 \nVänsterhörnet i Borlänge\, Vattugatan 5 \nFri entré \nI samarbete med ABF i Borlänge
URL:https://borlange.vansterpartiet.se/event/forelasning-med-per-arne-ockerman/
LOCATION:Vänsterhörnet\, Vattugatan 5\, Borlänge\, 78433\, Sverige
END:VEVENT
BEGIN:VEVENT
DTSTART;TZID=Europe/Stockholm:20160501T140000
DTEND;TZID=Europe/Stockholm:20160501T153000
DTSTAMP:20260420T162913
CREATED:20160428T091821Z
LAST-MODIFIED:20160428T092015Z
UID:1101-1462111200-1462116600@borlange.vansterpartiet.se
SUMMARY:Första maj med Vänsterpartiet Borlänge
DESCRIPTION:Fira Första maj med Vänsterpartiet Borlänge \n ETT BORLÄNGE FÖR ALLA \nHuvudtalare:\nLars Ohly (f.d partiledare för Vänsterpartiet) \nTalare:\nDhifon Abdi (Ung Vänster Borlänge)\n\nSång och musik av Heidi Baier\n \n14.00 Samling i Forssa centrum för avmarsch mot Gammelgården\n14.30 Firandet fortsätter på Gammelgården med tal och andra aktiviteter. \nGammelgårdens café har säsongspremiär! \nVamt välkomna!\nArrangörer är Vänsterpartiet Borlänge\, Ung Vänster Borlänge\, i samarbete med ABF Borlänge-Nedansiljan.
URL:https://borlange.vansterpartiet.se/event/forsta-maj-med-vansterpartiet-borlange/
LOCATION:Gammelgården Borlänge\, Gammelgårdsvägen 2\, Borlänge\, 7844\, Sverige
END:VEVENT
BEGIN:VEVENT
DTSTART;TZID=Europe/Stockholm:20160308T160000
DTEND;TZID=Europe/Stockholm:20160308T200000
DTSTAMP:20260420T162913
CREATED:20160303T073343Z
LAST-MODIFIED:20160303T073343Z
UID:1095-1457452800-1457467200@borlange.vansterpartiet.se
SUMMARY:Internationella Kvinnodagen 8e mars
DESCRIPTION:Kom och fira Internationella Kvinnodagen med oss på Vänsterhörnet! \nVi har öppet hus från klockan 16 och bjuder bland annat på: \n16-17.00 Mingel\, fika\, Inspirerande Kvinnoporträtt\n17.00 Kvinnor berättar\n17.30- 18.00 Fikapaus\n18.00 Frågesport\n19.00 Prisutdelning\n20.00 Tack för ikväll 🙂 \nHelt enkelt en kärleksfull hyllningskväll till alla kvinnor! \nKlart du ska komma!!
URL:https://borlange.vansterpartiet.se/event/internationella-kvinnodagen-8e-mars/
LOCATION:Vänsterhörnet\, Vattugatan 5\, Borlänge\, 78433\, Sverige
END:VEVENT
BEGIN:VEVENT
DTSTART;TZID=Europe/Stockholm:20160217T180000
DTEND;TZID=Europe/Stockholm:20160217T200000
DTSTAMP:20260420T162913
CREATED:20160214T122742Z
LAST-MODIFIED:20160214T122742Z
UID:1083-1455732000-1455739200@borlange.vansterpartiet.se
SUMMARY:Vem har rätt att leva på sin lön?
DESCRIPTION:Vänsterpartiets riksdagsgruppledare Mia Sydow Mölleby besöker Borlänge och har ett öppet föredrag med temat Vem har rätt att leva på sin lön? \nFri entré\nUnder kvällen kommer bjuder vi besökare på fika. \nVarmt välkomna! \nI samarbete med ABF i Borlänge \n \n 
URL:https://borlange.vansterpartiet.se/event/vem-har-ratt-att-leva-pa-sin-lon/
LOCATION:Vänsterhörnet\, Vattugatan 5\, Borlänge\, 78433\, Sverige
ORGANIZER;CN="V%C3%A4nsterpartiet Borl%C3%A4nge":MAILTO:borlange@vansterpartiet.se
END:VEVENT
BEGIN:VEVENT
DTSTART;TZID=Europe/Stockholm:20160130T110000
DTEND;TZID=Europe/Stockholm:20160130T160000
DTSTAMP:20260420T162913
CREATED:20151019T175303Z
LAST-MODIFIED:20151210T204202Z
UID:1063-1454151600-1454169600@borlange.vansterpartiet.se
SUMMARY:Internfeministisk Utbildning
DESCRIPTION:Välkommen på Internfeministisk utbildning! \nLördag 30e januari kl 11-16.00 (tiden kan komma att justeras) \nAlla medlemmar är välkomna! \nFörtroendevalda i Borlänge Vänstern uppmanas att prioritera denna utbildning som ska stärka vår feministiska värdegrund. \nUtbildningen leds av Xamuel Gonzales och Titti Berg \nMedlemmar anmäler sitt deltagande till jenny.axelson-fisk@borlange.se \nFörtroendevalda anmäler förhinder till jenny.axelson-fisk@borlange.se \nMer info inom kort!
URL:https://borlange.vansterpartiet.se/event/internfeministisk-utbildning/
LOCATION:Vänsterhörnet\, Vattugatan 5\, Borlänge\, 78433\, Sverige
END:VEVENT
BEGIN:VEVENT
DTSTART;TZID=Europe/Stockholm:20151218T180000
DTEND;TZID=Europe/Stockholm:20151218T200000
DTSTAMP:20260420T162913
CREATED:20151210T204411Z
LAST-MODIFIED:20151210T204411Z
UID:1074-1450461600-1450468800@borlange.vansterpartiet.se
SUMMARY:Julavslutning
DESCRIPTION:Vi avslutar vår politiska höst med julmys på Vänsterhörnet! \nMedlemmar och andra sympatisörer är välkomna! \nVi bjuder på glögg\, julgodis och fika! \nDe som vill går ut och tar en pizza efteråt! \nVarmt Välkomna!
URL:https://borlange.vansterpartiet.se/event/julavslutning/
LOCATION:Vänsterhörnet\, Vattugatan 5\, Borlänge\, 78433\, Sverige
ORGANIZER;CN="V%C3%A4nsterpartiet Borl%C3%A4nge":MAILTO:borlange@vansterpartiet.se
END:VEVENT
BEGIN:VEVENT
DTSTART;TZID=Europe/Stockholm:20151021T180000
DTEND;TZID=Europe/Stockholm:20151021T200000
DTSTAMP:20260420T162913
CREATED:20151004T204504Z
LAST-MODIFIED:20151011T154926Z
UID:1062-1445450400-1445457600@borlange.vansterpartiet.se
SUMMARY:Röd-Grön Mötesplats - Våra tankar om Borlänge nu och i framtiden
DESCRIPTION:Diskussion och samtal under ledning av Lars-Erik Hammarqvist\, Vänstern och Leopoldo Letelier\, Socialdemokraterna. \nVi hoppas på en intressant kväll med många röd-gröna vänner som vill komma till Vänsterhörnet och samtala!
URL:https://borlange.vansterpartiet.se/event/diskussion/
LOCATION:Vänsterhörnet\, Vattugatan 5\, Borlänge\, 78433\, Sverige
END:VEVENT
BEGIN:VEVENT
DTSTART;TZID=Europe/Stockholm:20151005T180000
DTEND;TZID=Europe/Stockholm:20151005T200000
DTSTAMP:20260420T162913
CREATED:20151004T204314Z
LAST-MODIFIED:20151004T204314Z
UID:1061-1444068000-1444075200@borlange.vansterpartiet.se
SUMMARY:ADHD och Autism hos barn- Hur funkar det?
DESCRIPTION:Föreläsning och Samtal om ADHD och Autism. \n\nVad är ADHD och Autism och vad är det INTE?\nVanliga fördomar om ADHD och Autism\nHur är vardagen med barn som har Neuropsykiatriska funktionshinder?\nDiskussions- /frågestund\n\nMed \nHenrik Wolgast\, Vänsterpartist och Överläkare BUP Borlänge \noch \nTina Wiman\, Anhörig och föreläsare \n 
URL:https://borlange.vansterpartiet.se/event/adhd-och-autism-hos-barn-hur-funkar-det/
LOCATION:Vänsterhörnet\, Vattugatan 5\, Borlänge\, 78433\, Sverige
ORGANIZER;CN="V%C3%A4nsterpartiet Borl%C3%A4nge":MAILTO:borlange@vansterpartiet.se
END:VEVENT
BEGIN:VEVENT
DTSTART;TZID=Europe/Stockholm:20150930T180000
DTEND;TZID=Europe/Stockholm:20150930T200000
DTSTAMP:20260420T162913
CREATED:20150901T202632Z
LAST-MODIFIED:20150914T113627Z
UID:999-1443636000-1443643200@borlange.vansterpartiet.se
SUMMARY:Föräldraträff NPF
DESCRIPTION:Föräldraträff för föräldrar till barn med Neuropsykiatriska funktionshinder. \nVi samlas på vänsterhörnet och utbyter tankar och erfarenheter om hur det är att vara förälder till barn med NPF (ADHD\, ADD\, Asperger osv). \nAnmäl gärna i förväg till- \nJenny Axelson-Fisk – jajemen@bredband.net
URL:https://borlange.vansterpartiet.se/event/foraldratraff/
LOCATION:Vänsterhörnet\, Vattugatan 5\, Borlänge\, 78433\, Sverige
ORGANIZER;CN="V%C3%A4nsterpartiet Borl%C3%A4nge":MAILTO:borlange@vansterpartiet.se
END:VEVENT
BEGIN:VEVENT
DTSTART;TZID=Europe/Stockholm:20150921T180000
DTEND;TZID=Europe/Stockholm:20150921T200000
DTSTAMP:20260420T162913
CREATED:20150901T194508Z
LAST-MODIFIED:20150904T221252Z
UID:992-1442858400-1442865600@borlange.vansterpartiet.se
SUMMARY:Samtal och diskussion om psykisk ohälsa
DESCRIPTION:Medverkande:\nAnna Trautmann\, studievägledare och tidigare aktiv inom kvinnojouren.\nKristina Eld\, sjuksköterska och KBT terapeut. \nArrangemanget sker i samarbete med ABF.
URL:https://borlange.vansterpartiet.se/event/samtal-och-diskussion-om-psykisk-ohalsa/
LOCATION:Vänsterhörnet\, Vattugatan 5\, Borlänge\, 78433\, Sverige
ORGANIZER;CN="V%C3%A4nsterpartiet Borl%C3%A4nge":MAILTO:borlange@vansterpartiet.se
END:VEVENT
BEGIN:VEVENT
DTSTART;TZID=Europe/Stockholm:20150916T180000
DTEND;TZID=Europe/Stockholm:20150916T200000
DTSTAMP:20260420T162913
CREATED:20150904T181809Z
LAST-MODIFIED:20150904T221100Z
UID:1025-1442426400-1442433600@borlange.vansterpartiet.se
SUMMARY:Migration i vår tid
DESCRIPTION:Leopoldo Letelier Linque leder en diskussion om en av vår tids största utmaningar. Hur påverkar flyktingströmmar vår samtid? \nArrangemanget sker i samarbete med ABF.
URL:https://borlange.vansterpartiet.se/event/migration-i-var-tid/
LOCATION:Vänsterhörnet\, Vattugatan 5\, Borlänge\, 78433\, Sverige
ORGANIZER;CN="V%C3%A4nsterpartiet Borl%C3%A4nge":MAILTO:borlange@vansterpartiet.se
END:VEVENT
END:VCALENDAR